BEGIN:VCALENDAR
VERSION:2.0
PRODID:-//Downtown Lawrence Inc - ECPv6.10.1.1//NONSGML v1.0//EN
CALSCALE:GREGORIAN
METHOD:PUBLISH
X-WR-CALNAME:Downtown Lawrence Inc
X-ORIGINAL-URL:https://downtownlawrence.com
X-WR-CALDESC:Events for Downtown Lawrence Inc
REFRESH-INTERVAL;VALUE=DURATION:PT1H
X-Robots-Tag:noindex
X-PUBLISHED-TTL:PT1H
BEGIN:VTIMEZONE
TZID:America/Chicago
BEGIN:DAYLIGHT
TZOFFSETFROM:-0600
TZOFFSETTO:-0500
TZNAME:CDT
DTSTART:20240310T080000
END:DAYLIGHT
BEGIN:STANDARD
TZOFFSETFROM:-0500
TZOFFSETTO:-0600
TZNAME:CST
DTSTART:20241103T070000
END:STANDARD
END:VTIMEZONE
BEGIN:VEVENT
DTSTART;TZID=America/Chicago:20241109T110000
DTEND;TZID=America/Chicago:20241109T120000
DTSTAMP:20260422T172521
CREATED:20241024T144357Z
LAST-MODIFIED:20241024T144357Z
UID:23421415-1731150000-1731153600@downtownlawrence.com
SUMMARY:Veterans Day Parade
DESCRIPTION:Let’s fill Mass St. to celebrate our local Veterans on Saturday\, November 9th! Downtown Lawrence / Mass St from 11th to 7th street. All Veterans and Gold Star Families are welcome to participate. Meet at 10:30 AM\, 1150 Mass St (DG Courthouse)RSVP @ Veteransday-Lawrence.orgor call/text 785-576-3765
URL:https://downtownlawrence.com/event/veterans-day-parade/
LOCATION:Massachusetts Street\, Lawrence\, KS\, 66044\, United States
ATTACH;FMTTYPE=image/jpeg:https://downtownlawrence.com/wp-content/uploads/2024/10/Veterans-Day-Parade-Car-.jpeg
END:VEVENT
END:VCALENDAR