BEGIN:VCALENDAR
VERSION:2.0
PRODID:-//Downtown Lawrence Inc - ECPv6.10.1.1//NONSGML v1.0//EN
CALSCALE:GREGORIAN
METHOD:PUBLISH
X-ORIGINAL-URL:https://downtownlawrence.com
X-WR-CALDESC:Events for Downtown Lawrence Inc
REFRESH-INTERVAL;VALUE=DURATION:PT1H
X-Robots-Tag:noindex
X-PUBLISHED-TTL:PT1H
BEGIN:VTIMEZONE
TZID:America/Chicago
BEGIN:DAYLIGHT
TZOFFSETFROM:-0600
TZOFFSETTO:-0500
TZNAME:CDT
DTSTART:20250309T080000
END:DAYLIGHT
BEGIN:STANDARD
TZOFFSETFROM:-0500
TZOFFSETTO:-0600
TZNAME:CST
DTSTART:20251102T070000
END:STANDARD
END:VTIMEZONE
BEGIN:VEVENT
DTSTART;TZID=America/Chicago:20250301T120000
DTEND;TZID=America/Chicago:20250301T193000
DTSTAMP:20260422T130802
CREATED:20240305T223152Z
LAST-MODIFIED:20240305T223152Z
UID:23418459-1740830400-1740857400@downtownlawrence.com
SUMMARY:Kansas Craft Brewers Expo
DESCRIPTION:Attendees enjoy sampling the finest craft beers from 40-plus Kansas breweries in the impressive setting of Abe & Jake’s landing. The experience includes food vendors\, selfie station\, merchandise shop\, souvenir glasses\, and a great social event. The event is produced by The Free State Brewing Company\, Kansas Craft Brewers Guild\, Downtown Lawrence\, and Abe & Jakes Landing. Proceeds benefit the Brewers Guild and Downtown Lawrence.
URL:https://downtownlawrence.com/event/kansas-craft-brewers-expo/
ATTACH;FMTTYPE=image/jpeg:https://downtownlawrence.com/wp-content/uploads/2024/03/Kansas-Craft-Brewers-Expo-Logo.jpg
END:VEVENT
END:VCALENDAR