BEGIN:VCALENDAR
VERSION:2.0
PRODID:-//Downtown Lawrence Inc - ECPv6.10.1.1//NONSGML v1.0//EN
CALSCALE:GREGORIAN
METHOD:PUBLISH
X-ORIGINAL-URL:https://downtownlawrence.com
X-WR-CALDESC:Events for Downtown Lawrence Inc
REFRESH-INTERVAL;VALUE=DURATION:PT1H
X-Robots-Tag:noindex
X-PUBLISHED-TTL:PT1H
BEGIN:VTIMEZONE
TZID:America/Chicago
BEGIN:DAYLIGHT
TZOFFSETFROM:-0600
TZOFFSETTO:-0500
TZNAME:CDT
DTSTART:20250309T080000
END:DAYLIGHT
BEGIN:STANDARD
TZOFFSETFROM:-0500
TZOFFSETTO:-0600
TZNAME:CST
DTSTART:20251102T070000
END:STANDARD
END:VTIMEZONE
BEGIN:VEVENT
DTSTART;TZID=America/Chicago:20250607T110000
DTEND;TZID=America/Chicago:20250607T235000
DTSTAMP:20260422T072345
CREATED:20250305T173553Z
LAST-MODIFIED:20250305T173553Z
UID:23421761-1749294000-1749340200@downtownlawrence.com
SUMMARY:Lawrence Pride Parade/Fest
DESCRIPTION:A parade down Massachusetts Street at 11am. After the parade finishes\, a block party in South Park. It features live performances\, vendors\, drag performers and fun for all ages!
URL:https://downtownlawrence.com/event/lawrence-pride-parade-fest/
ATTACH;FMTTYPE=image/webp:https://downtownlawrence.com/wp-content/uploads/2025/03/PRIDE-2025.webp
END:VEVENT
END:VCALENDAR