BEGIN:VCALENDAR
VERSION:2.0
PRODID:-//Downtown Lawrence Inc - ECPv6.10.1.1//NONSGML v1.0//EN
CALSCALE:GREGORIAN
METHOD:PUBLISH
X-ORIGINAL-URL:https://downtownlawrence.com
X-WR-CALDESC:Events for Downtown Lawrence Inc
REFRESH-INTERVAL;VALUE=DURATION:PT1H
X-Robots-Tag:noindex
X-PUBLISHED-TTL:PT1H
BEGIN:VTIMEZONE
TZID:America/Chicago
BEGIN:DAYLIGHT
TZOFFSETFROM:-0600
TZOFFSETTO:-0500
TZNAME:CDT
DTSTART:20250309T080000
END:DAYLIGHT
BEGIN:STANDARD
TZOFFSETFROM:-0500
TZOFFSETTO:-0600
TZNAME:CST
DTSTART:20251102T070000
END:STANDARD
END:VTIMEZONE
BEGIN:VEVENT
DTSTART;TZID=America/Chicago:20250614T080000
DTEND;TZID=America/Chicago:20250614T200000
DTSTAMP:20260422T072339
CREATED:20250307T161417Z
LAST-MODIFIED:20250307T161417Z
UID:23421784-1749888000-1749931200@downtownlawrence.com
SUMMARY:Juneteenth
DESCRIPTION:Come downtown for a day of celebration and recognition. This all day event includes an underground railroad tour\, parade and a community celebration in South Park. Enjoy live music\, food\, and crafts during the community celebration.
URL:https://downtownlawrence.com/event/juneteenth/
ATTACH;FMTTYPE=image/jpeg:https://downtownlawrence.com/wp-content/uploads/2025/03/Juneteenth-2025.jpg
END:VEVENT
END:VCALENDAR