BEGIN:VCALENDAR
VERSION:2.0
PRODID:-//Downtown Lawrence Inc - ECPv6.10.1.1//NONSGML v1.0//EN
CALSCALE:GREGORIAN
METHOD:PUBLISH
X-ORIGINAL-URL:https://downtownlawrence.com
X-WR-CALDESC:Events for Downtown Lawrence Inc
REFRESH-INTERVAL;VALUE=DURATION:PT1H
X-Robots-Tag:noindex
X-PUBLISHED-TTL:PT1H
BEGIN:VTIMEZONE
TZID:America/New_York
BEGIN:DAYLIGHT
TZOFFSETFROM:-0500
TZOFFSETTO:-0400
TZNAME:EDT
DTSTART:20250309T070000
END:DAYLIGHT
BEGIN:STANDARD
TZOFFSETFROM:-0400
TZOFFSETTO:-0500
TZNAME:EST
DTSTART:20251102T060000
END:STANDARD
END:VTIMEZONE
BEGIN:VEVENT
DTSTART;TZID=America/New_York:20250620T160000
DTEND;TZID=America/New_York:20250620T220000
DTSTAMP:20260422T072348
CREATED:20231122T135002Z
LAST-MODIFIED:20250401T220006Z
UID:4397649-1750435200-1750456800@downtownlawrence.com
SUMMARY:Midsummer Night on Mass
DESCRIPTION:Midsummer Night on Mass is a celebration of Downtown Lawrence. Take advantage of great deals that the downtown shops\, restaurants\, and drinking establishments offer for this event only. Stroll the downtown as sidewalk sales abound\, street performers entertain\, and restaurants provide tasty specials. Stores stay open until 10 pm! Participating businesses’ specials are featured on the event website: https://msnonmass.com/ \nMidsummer Night on Mass is produced by Downtown Lawrence\, Inc. along with its partner downtown stakeholders.
URL:https://downtownlawrence.com/event/mid-summer-night-on-mass/
ATTACH;FMTTYPE=image/jpeg:https://downtownlawrence.com/wp-content/uploads/2025/04/Poster-MSN-2025-scaled-e1751555016580.jpg
END:VEVENT
END:VCALENDAR