BEGIN:VCALENDAR
VERSION:2.0
PRODID:-//Downtown Lawrence Inc - ECPv6.10.1.1//NONSGML v1.0//EN
CALSCALE:GREGORIAN
METHOD:PUBLISH
X-ORIGINAL-URL:https://downtownlawrence.com
X-WR-CALDESC:Events for Downtown Lawrence Inc
REFRESH-INTERVAL;VALUE=DURATION:PT1H
X-Robots-Tag:noindex
X-PUBLISHED-TTL:PT1H
BEGIN:VTIMEZONE
TZID:America/Chicago
BEGIN:DAYLIGHT
TZOFFSETFROM:-0600
TZOFFSETTO:-0500
TZNAME:CDT
DTSTART:20250309T080000
END:DAYLIGHT
BEGIN:STANDARD
TZOFFSETFROM:-0500
TZOFFSETTO:-0600
TZNAME:CST
DTSTART:20251102T070000
END:STANDARD
END:VTIMEZONE
BEGIN:VEVENT
DTSTART;TZID=America/Chicago:20250913T100000
DTEND;TZID=America/Chicago:20250914T170000
DTSTAMP:20260422T024555
CREATED:20240305T222903Z
LAST-MODIFIED:20250703T142238Z
UID:23418457-1757757600-1757869200@downtownlawrence.com
SUMMARY:Art in the Park
DESCRIPTION:This two-day event showcases local and regional artists in the beautiful setting of South Park. You can stroll and explore hundreds of booths while enjoying food vendors\, fun for the kids\, and live music. The event is produced by the Lawrence Art Guild.
URL:https://downtownlawrence.com/event/art-in-the-park/
ATTACH;FMTTYPE=image/jpeg:https://downtownlawrence.com/wp-content/uploads/2024/03/Art-in-the-Park-Logo.jpg
END:VEVENT
END:VCALENDAR