BEGIN:VCALENDAR
VERSION:2.0
PRODID:-//Downtown Lawrence Inc - ECPv6.10.1.1//NONSGML v1.0//EN
CALSCALE:GREGORIAN
METHOD:PUBLISH
X-WR-CALNAME:Downtown Lawrence Inc
X-ORIGINAL-URL:https://downtownlawrence.com
X-WR-CALDESC:Events for Downtown Lawrence Inc
REFRESH-INTERVAL;VALUE=DURATION:PT1H
X-Robots-Tag:noindex
X-PUBLISHED-TTL:PT1H
BEGIN:VTIMEZONE
TZID:America/Chicago
BEGIN:DAYLIGHT
TZOFFSETFROM:-0600
TZOFFSETTO:-0500
TZNAME:CDT
DTSTART:20250309T080000
END:DAYLIGHT
BEGIN:STANDARD
TZOFFSETFROM:-0500
TZOFFSETTO:-0600
TZNAME:CST
DTSTART:20251102T070000
END:STANDARD
BEGIN:DAYLIGHT
TZOFFSETFROM:-0600
TZOFFSETTO:-0500
TZNAME:CDT
DTSTART:20260308T080000
END:DAYLIGHT
BEGIN:STANDARD
TZOFFSETFROM:-0500
TZOFFSETTO:-0600
TZNAME:CST
DTSTART:20261101T070000
END:STANDARD
TZID:America/New_York
BEGIN:DAYLIGHT
TZOFFSETFROM:-0500
TZOFFSETTO:-0400
TZNAME:EDT
DTSTART:20260308T070000
END:DAYLIGHT
BEGIN:STANDARD
TZOFFSETFROM:-0400
TZOFFSETTO:-0500
TZNAME:EST
DTSTART:20261101T060000
END:STANDARD
END:VTIMEZONE
BEGIN:VEVENT
DTSTART;TZID=America/Chicago:20250928T110000
DTEND;TZID=America/Chicago:20250928T130000
DTSTAMP:20260422T173020
CREATED:20250703T180355Z
LAST-MODIFIED:20250703T180355Z
UID:23421894-1759057200-1759064400@downtownlawrence.com
SUMMARY:Walk a Mile in Their Shoes
DESCRIPTION:Come together to raise awareness around relationship violence and show support for survivors with Claire’s Community. This family-friendly walk for Domestic Violence Awareness Month is happening Sunday\, September 28\, starting at 11 am at Fleet Feet Lawrence. Get some steps in and stay for a free lunch at Johnny’s Tavern! \nCostumes\, decorated shoes\, and signs are encouraged.
URL:https://downtownlawrence.com/event/walk-a-mile-in-their-shoes/
LOCATION:Fleet Feet\, 839 Massachusetts St
ATTACH;FMTTYPE=image/png:https://downtownlawrence.com/wp-content/uploads/2025/07/walk-a-mile.png
END:VEVENT
BEGIN:VEVENT
DTSTART;TZID=America/Chicago:20251005T110000
DTEND;TZID=America/Chicago:20251005T180000
DTSTAMP:20260422T173020
CREATED:20250703T145302Z
LAST-MODIFIED:20250912T181341Z
UID:23421887-1759662000-1759687200@downtownlawrence.com
SUMMARY:Autumn Harvest Festival
DESCRIPTION:This even celebrates the harvest season in beautiful South Park. Explore some amazing handcrafted goods from local artists and entrepreneurs. This is event is produced by the City of Lawrence.
URL:https://downtownlawrence.com/event/autumn-harvest-festival/
LOCATION:South Park\, 1141 Massachusetts Street\, Lawrence\, Kansas\, 66044
ATTACH;FMTTYPE=image/jpeg:https://downtownlawrence.com/wp-content/uploads/2025/07/autumn-harvest-fest.jpg
END:VEVENT
BEGIN:VEVENT
DTSTART;TZID=America/Chicago:20251016T150000
DTEND;TZID=America/Chicago:20251016T200000
DTSTAMP:20260422T173020
CREATED:20231122T134641Z
LAST-MODIFIED:20250912T181639Z
UID:4397646-1760626800-1760644800@downtownlawrence.com
SUMMARY:Zombie Walk 2025
DESCRIPTION:Gather at South Park; walk down Massachusetts Street at sundown. Costume contests\, prizes\, make-up stations\, and more! \nA true night of the Living Dead. Community members of all ages outdo themselves with fabulous costumes and props. Make up artists assist at South Park. A legion of a thousand zombies annually makes the trek down Mass Street as the sidewalks and eateries are lined with spectators. The event is produced by 1313 Mockingbird Lane and The Granada Theater.
URL:https://downtownlawrence.com/event/zombie-walk-2024/
ATTACH;FMTTYPE=image/jpeg:https://downtownlawrence.com/wp-content/uploads/2023/11/zombie-walk.jpg
END:VEVENT
BEGIN:VEVENT
DTSTART;TZID=America/Chicago:20251031T170000
DTEND;TZID=America/Chicago:20251031T200000
DTSTAMP:20260422T173020
CREATED:20240305T222316Z
LAST-MODIFIED:20251022T193629Z
UID:23418443-1761930000-1761940800@downtownlawrence.com
SUMMARY:Downtown Trick or Treat
DESCRIPTION:Thousands of community members of all ages flock to the streets of Downtown Lawrence as participating businesses hand out treats\, starting at 5 pm. The costumes and props are beyond impressive and many businesses pull out all the stops. Downtown is alive with the Halloween spirit. The event is produced by Downtown Lawrence and its partner businesses.
URL:https://downtownlawrence.com/event/downtown-trick-or-treat/
ATTACH;FMTTYPE=image/png:https://downtownlawrence.com/wp-content/uploads/2024/03/Halloween-Trick-or-Treat.png
END:VEVENT
BEGIN:VEVENT
DTSTART;VALUE=DATE:20251128
DTEND;VALUE=DATE:20251208
DTSTAMP:20260422T173020
CREATED:20250307T165144Z
LAST-MODIFIED:20250307T165144Z
UID:23421777-1764288000-1765151999@downtownlawrence.com
SUMMARY:Festival of Trees
DESCRIPTION:The annual Festival of Trees in is a heartwarming holiday tradition! Celebrate the season with beautifully decorated Christmas trees\, wreaths\, and festive displays\, all created by local businesses\, organizations\, and community members. The proceeds from this event benefit O’Connell Children’s Shelter. It is a perfect way to kick off the holiday season!
URL:https://downtownlawrence.com/event/festival-of-trees/
ATTACH;FMTTYPE=image/png:https://downtownlawrence.com/wp-content/uploads/2025/03/2020-FOT-logo-good-font.png
END:VEVENT
BEGIN:VEVENT
DTSTART;TZID=America/Chicago:20251128T173000
DTEND;TZID=America/Chicago:20251128T183000
DTSTAMP:20260422T173020
CREATED:20240305T223313Z
LAST-MODIFIED:20251007T170625Z
UID:23418461-1764351000-1764354600@downtownlawrence.com
SUMMARY:Holiday Lights and Santa Rescue
DESCRIPTION:Make plans to attend this annual downtown Lawrence tradition when the twinkle lights along Massachusetts Street are lit up for the holiday season\, and Santa needs a hand from Lawrence-Douglas County Fire Medical as he gets stuck atop Weaver’s Department store. There will also be a North Pole Post Office outpost tent where kiddos can drop off letters to Santa. Letter-writing supplies will be available\, or you can download one of the templates below to complete and bring along. You can listen live to the entire event from our friends at KLWN FM 101.7 / AM1320 or stream it online. This festive event is made possible by Lawrence Central Rotary and the Lawrence Kids Calendar. \n  \n5:30 North Pole Mail tent opens \n6:00 Santa arrives \n6:30 Mail tent closes
URL:https://downtownlawrence.com/event/santa-rescue-and-holiday-light-ceremony/
ATTACH;FMTTYPE=image/png:https://downtownlawrence.com/wp-content/uploads/2024/03/Santa-Rescue.png
END:VEVENT
BEGIN:VEVENT
DTSTART;TZID=America/Chicago:20251206T110000
DTEND;TZID=America/Chicago:20251206T130000
DTSTAMP:20260422T173020
CREATED:20240305T222605Z
LAST-MODIFIED:20250304T225333Z
UID:23418445-1765018800-1765026000@downtownlawrence.com
SUMMARY:Old-Fashioned Christmas Parade
DESCRIPTION:This Downtown Lawrence tradition truly rings in the Christmas spirit as horse drawn entries from all over the region\, adorned with Christmas regalia\, parade down Massachusetts Street. The sidewalks are packed with spectators and there is plenty of holiday spirit to share. The event is produced by the Lawrence Old-Fashioned Christmas Parade Committee.
URL:https://downtownlawrence.com/event/old-fashioned-christmas-parade/
ATTACH;FMTTYPE=image/jpeg:https://downtownlawrence.com/wp-content/uploads/2024/03/xmas-parade-71-scaled.jpg
END:VEVENT
BEGIN:VEVENT
DTSTART;VALUE=DATE:20260217
DTEND;VALUE=DATE:20260218
DTSTAMP:20260422T173020
CREATED:20250306T174737Z
LAST-MODIFIED:20250306T174737Z
UID:23421767-1771286400-1771372799@downtownlawrence.com
SUMMARY:Mardi Gras Parade & Fat Tuesday
DESCRIPTION:Join us for a festive Mardi Gras celebration in Downtown Lawrence\, February 17\, 2026! Terrebonne will be serving up delicious beignets\, coffee\, libations\, and plenty of good vibes. Enjoy the lively parade starting at Lucia and making its way to Terrebonne and other key stops. Don’t miss out on this fun-filled event for all ages!
URL:https://downtownlawrence.com/event/mardi-gras-parade-fat-tuesday/
ATTACH;FMTTYPE=image/jpeg:https://downtownlawrence.com/wp-content/uploads/2025/03/Mardi-Gras-Parade-e1741272963437.jpg
END:VEVENT
BEGIN:VEVENT
DTSTART;TZID=America/New_York:20260619T160000
DTEND;TZID=America/New_York:20260619T220000
DTSTAMP:20260422T173020
CREATED:20250703T150444Z
LAST-MODIFIED:20250703T150444Z
UID:23421892-1781884800-1781906400@downtownlawrence.com
SUMMARY:Midsummer Night on Mass
DESCRIPTION:Midsummer Night on Mass is a celebration of Downtown Lawrence. Take advantage of great deals that the downtown shops\, restaurants\, and drinking establishments offer for this event only. Stroll the downtown as sidewalk sales abound\, street performers entertain\, and restaurants provide tasty specials. Stores stay open until 10 pm! Participating businesses’ specials are featured on the event website: https://msnonmass.com/ \nMidsummer Night on Mass is produced by Downtown Lawrence\, Inc. along with its partner downtown stakeholders.
URL:https://downtownlawrence.com/event/midsummer-night-on-mass/
ATTACH;FMTTYPE=image/jpeg:https://downtownlawrence.com/wp-content/uploads/2025/04/Poster-MSN-2025-scaled-e1751555016580.jpg
END:VEVENT
END:VCALENDAR